BEGIN:VCALENDAR
VERSION:2.0
PRODID:-//Dev Energy - ECPv6.7.0//NONSGML v1.0//EN
CALSCALE:GREGORIAN
METHOD:PUBLISH
X-ORIGINAL-URL:https://www.devenergy.co.in
X-WR-CALDESC:Events for Dev Energy
REFRESH-INTERVAL;VALUE=DURATION:PT1H
X-Robots-Tag:noindex
X-PUBLISHED-TTL:PT1H
BEGIN:VTIMEZONE
TZID:UTC
BEGIN:STANDARD
TZOFFSETFROM:+0000
TZOFFSETTO:+0000
TZNAME:UTC
DTSTART:20240101T000000
END:STANDARD
END:VTIMEZONE
BEGIN:VEVENT
DTSTART;TZID=UTC:20240822T090000
DTEND;TZID=UTC:20240823T230000
DTSTAMP:20260422T084810
CREATED:20240717T070218Z
LAST-MODIFIED:20240824T060058Z
UID:5397-1724317200-1724454000@www.devenergy.co.in
SUMMARY:IRON ORE & PELLET | DRI & STEEL | COAL OUTLOOK
DESCRIPTION:The Leela Ambience Gurugram\, Haryana\, India
URL:https://www.devenergy.co.in/event/introducing-circulating-fluidised-bed-coal-gasification/
ATTACH;FMTTYPE=image/jpeg:https://www.devenergy.co.in/wp-content/uploads/2024/07/WhatsApp-Image-2024-07-17-at-12.23.40-PM-1.jpeg
END:VEVENT
BEGIN:VEVENT
DTSTART;TZID=UTC:20240822T093000
DTEND;TZID=UTC:20240823T183000
DTSTAMP:20260422T084810
CREATED:20240807T070123Z
LAST-MODIFIED:20240812T104504Z
UID:5951-1724319000-1724437800@www.devenergy.co.in
SUMMARY:IRONORE & PELLET 2024
DESCRIPTION:DELHI
URL:https://www.devenergy.co.in/event/ironore-pellet-2024/
ATTACH;FMTTYPE=image/png:https://www.devenergy.co.in/wp-content/uploads/2024/08/Untitled-1h.png
END:VEVENT
BEGIN:VEVENT
DTSTART;TZID=UTC:20240822T093000
DTEND;TZID=UTC:20240824T183000
DTSTAMP:20260422T084810
CREATED:20240807T070158Z
LAST-MODIFIED:20240812T100717Z
UID:5953-1724319000-1724524200@www.devenergy.co.in
SUMMARY:INTER FOUNDRY 2024
DESCRIPTION:COIMBATOR
URL:https://www.devenergy.co.in/event/inter-foundry-2024/
ATTACH;FMTTYPE=image/png:https://www.devenergy.co.in/wp-content/uploads/2024/08/Untitled-1a.png
END:VEVENT
END:VCALENDAR